BEGIN:VCALENDAR
VERSION:2.0
PRODID:-//ChamberMaster//Event Calendar 2.0//EN
METHOD:PUBLISH
X-PUBLISHED-TTL:P3D
REFRESH-INTERVAL:P3D
CALSCALE:GREGORIAN
BEGIN:VEVENT
DTSTART:20241206T220000Z
DTEND:20241207T000000Z
X-MICROSOFT-CDO-ALLDAYEVENT:FALSE
SUMMARY:Annual Tree Lighting & Cookies with Santa - First Friday Peterborough
DESCRIPTION:Kick off the Holiday Season in Peterborough! Join us for First Friday on December 6th and experience the magic of downtown Peterborough.\n\n\n\n   Shop Local: Downtown businesses are open late (most until 7:00 PM!) with special events\, sales\, and snacks. Check individual store websites for details.\n\n\n\n  Cookies with Santa at the Peterborough Town House (5:00 - 7:00 PM) Enjoy cookies\, cocoa\, activities\, and photos with Santa!\n\n\n\n  Sponsored by: New Hampshire Ball Bearings\, Inc. - NHBB and Peterborough Diner\n\n\n\n Tree Lighting in Putnam Park at 6:00 PM   \n\n\n\n  Featuring music by Our Town Carolers with Ciar n Nagle & Tara Novak
X-ALT-DESC;FMTTYPE=text/html:<strong>Kick off the Holiday Season in Peterborough! Join us for First Friday on December 6th and experience the magic of downtown Peterborough.</strong><br />\n<br />\n&#128717\;&#65039\; Shop Local: Downtown businesses are open late (most until 7:00 PM!) with special events\, sales\, and snacks. Check individual store websites for details.<br />\n<br />\n&#127877\; Cookies with Santa at the Peterborough Town House (5:00 - 7:00 PM) Enjoy cookies\, cocoa\, activities\, and photos with Santa!<br />\n<br />\n&#127881\; Sponsored by: New Hampshire Ball Bearings\, Inc. - NHBB and Peterborough Diner<br />\n<br />\n&#127876\;Tree Lighting in Putnam Park at 6:00 PM &#127876\;&#10024\;<br />\n<br />\n&#127925\; Featuring music by Our Town Carolers with Ciar&aacute\;n Nagle &amp\; Tara Novak
LOCATION:Peterborough\, NH
UID:e.1183.51633
SEQUENCE:3
DTSTAMP:20260420T013828Z
URL:https://business.greatermonadnock.com/events/details/annual-tree-lighting-cookies-with-santa-first-friday-peterborough-51633
END:VEVENT

END:VCALENDAR
