BEGIN:VCALENDAR
VERSION:2.0
PRODID:-//ChamberMaster//Event Calendar 2.0//EN
METHOD:PUBLISH
X-PUBLISHED-TTL:P3D
REFRESH-INTERVAL:P3D
CALSCALE:GREGORIAN
BEGIN:VEVENT
DTSTART:20260508T210000Z
DTEND:20260508T223000Z
X-MICROSOFT-CDO-ALLDAYEVENT:FALSE
SUMMARY:Circus Springboard: Broken Open
DESCRIPTION:A high-flying family circus show combining circus and theater in which a community navigates the trials of growing up\, growing together\, and being torn apart. What does it take to reconcile and build back together again after a loss of trust and connection? Told through thrilling acrobatics\, impressive feats of circus\, and an embodied mythology of the everyday objects that make and break our daily lives\, Broken Open celebrates human ingenuity\, pointing towards signs of hope and interdependence during challenging times. From the New England Center for Circus Arts featuring the soon to be graduates of the 3 year professional training program in collaboration with internationally known director Marisol Rosa-Shapiro.
X-ALT-DESC;FMTTYPE=text/html:A high-flying family circus show combining circus and theater in which a community navigates the trials of growing up\, growing together\, and being torn apart. What does it take to reconcile and build back together again after a loss of trust and connection? Told through thrilling acrobatics\, impressive feats of circus\, and an embodied mythology of the everyday objects that make and break our daily lives\, Broken Open celebrates human ingenuity\, pointing towards signs of hope and interdependence during challenging times. From the New England Center for Circus Arts featuring the soon to be graduates of the 3 year professional training program in collaboration with internationally known director Marisol Rosa-Shapiro.
LOCATION:NECCA Trapezium 10 Town Crier Dr.\, Brattleboro\, VT
UID:e.1183.52502
SEQUENCE:3
DTSTAMP:20260422T163628Z
URL:https://business.greatermonadnock.com/events/details/circus-springboard-broken-open-52502
END:VEVENT

END:VCALENDAR
